BEGIN:VCALENDAR
VERSION:2.0
PRODID:-//Corridas de Rua - RS - ECPv4.5.7//NONSGML v1.0//EN
CALSCALE:GREGORIAN
METHOD:PUBLISH
X-WR-CALNAME:Corridas de Rua - RS
X-ORIGINAL-URL:https://corridasderuars.com.br
X-WR-CALDESC:Events for Corridas de Rua - RS
BEGIN:VEVENT
DTSTART;TZID=UTC+0:20180318T090000
DTEND;TZID=UTC+0:20180318T090000
DTSTAMP:20260420T035021
CREATED:20180221T150500Z
LAST-MODIFIED:20180221T150500Z
UID:3605-1521363600-1521363600@corridasderuars.com.br
SUMMARY:Rústica de São Valentim do Sul
DESCRIPTION:
URL:https://corridasderuars.com.br/evento/rustica-de-sao-valentim-do-sul/
CATEGORIES:5km
ATTACH;FMTTYPE=image/jpeg:https://corridasderuars.com.br/wp-content/uploads/2017/07/bg31.jpg
END:VEVENT
END:VCALENDAR