BEGIN:VCALENDAR
VERSION:2.0
PRODID:-//Corridas de Rua - RS - ECPv4.5.7//NONSGML v1.0//EN
CALSCALE:GREGORIAN
METHOD:PUBLISH
X-WR-CALNAME:Corridas de Rua - RS
X-ORIGINAL-URL:https://corridasderuars.com.br
X-WR-CALDESC:Events for Corridas de Rua - RS
BEGIN:VEVENT
DTSTART;TZID=UTC+0:20210725T080000
DTEND;TZID=UTC+0:20210725T080000
DTSTAMP:20260421T083809
CREATED:20210617T164443Z
LAST-MODIFIED:20210617T164443Z
UID:7181-1627200000-1627200000@corridasderuars.com.br
SUMMARY:Rústica de Inverno de Canoas
DESCRIPTION:
URL:https://corridasderuars.com.br/evento/rustica-de-inverno-de-canoas/
CATEGORIES:4km
ATTACH;FMTTYPE=image/jpeg:https://corridasderuars.com.br/wp-content/uploads/2018/10/bg76.jpg
END:VEVENT
END:VCALENDAR