BEGIN:VCALENDAR
VERSION:2.0
PRODID:-//Corridas de Rua - RS - ECPv4.5.7//NONSGML v1.0//EN
CALSCALE:GREGORIAN
METHOD:PUBLISH
X-WR-CALNAME:Corridas de Rua - RS
X-ORIGINAL-URL:https://corridasderuars.com.br
X-WR-CALDESC:Events for Corridas de Rua - RS
BEGIN:VEVENT
DTSTART;TZID=UTC+0:20180415T083000
DTEND;TZID=UTC+0:20180415T083000
DTSTAMP:20260419T232511
CREATED:20180326T112404Z
LAST-MODIFIED:20180326T112404Z
UID:3694-1523781000-1523781000@corridasderuars.com.br
SUMMARY:Rústica de Aniversário do Município de Pinto Bandeira
DESCRIPTION:
URL:https://corridasderuars.com.br/evento/rustica-de-aniversario-do-municipio-de-pinto-bandeira/
CATEGORIES:8.5km
ATTACH;FMTTYPE=image/jpeg:https://corridasderuars.com.br/wp-content/uploads/2017/07/bg18-1.jpg
END:VEVENT
END:VCALENDAR