BEGIN:VCALENDAR
VERSION:2.0
PRODID:-//Corridas de Rua - RS - ECPv4.5.7//NONSGML v1.0//EN
CALSCALE:GREGORIAN
METHOD:PUBLISH
X-WR-CALNAME:Corridas de Rua - RS
X-ORIGINAL-URL:https://corridasderuars.com.br
X-WR-CALDESC:Events for Corridas de Rua - RS
BEGIN:VEVENT
DTSTART;TZID=UTC+0:20190414T090000
DTEND;TZID=UTC+0:20190414T090000
DTSTAMP:20260419T181614
CREATED:20190325T131512Z
LAST-MODIFIED:20190325T131512Z
UID:4934-1555232400-1555232400@corridasderuars.com.br
SUMMARY:Rústica de Aniversário do Esporte Clube Soberano
DESCRIPTION:
URL:https://corridasderuars.com.br/evento/rustica-de-aniversario-do-esporte-clube-soberano/
CATEGORIES:6km
ATTACH;FMTTYPE=image/jpeg:https://corridasderuars.com.br/wp-content/uploads/2017/12/bg53.jpg
END:VEVENT
END:VCALENDAR