BEGIN:VCALENDAR
VERSION:2.0
PRODID:-//Corridas de Rua - RS - ECPv4.5.7//NONSGML v1.0//EN
CALSCALE:GREGORIAN
METHOD:PUBLISH
X-WR-CALNAME:Corridas de Rua - RS
X-ORIGINAL-URL:https://corridasderuars.com.br
X-WR-CALDESC:Events for Corridas de Rua - RS
BEGIN:VEVENT
DTSTART;TZID=UTC+0:20180603T090000
DTEND;TZID=UTC+0:20180603T090000
DTSTAMP:20260419T231548
CREATED:20180426T184101Z
LAST-MODIFIED:20180426T184101Z
UID:3813-1528016400-1528016400@corridasderuars.com.br
SUMMARY:Rústica da Festa do Sapato
DESCRIPTION:
URL:https://corridasderuars.com.br/evento/rustica-da-festa-do-sapato/
CATEGORIES:3km,7km
ATTACH;FMTTYPE=image/jpeg:https://corridasderuars.com.br/wp-content/uploads/2017/12/bg57.jpg
END:VEVENT
END:VCALENDAR