BEGIN:VCALENDAR
VERSION:2.0
PRODID:-//Corridas de Rua - RS - ECPv4.5.7//NONSGML v1.0//EN
CALSCALE:GREGORIAN
METHOD:PUBLISH
X-WR-CALNAME:Corridas de Rua - RS
X-ORIGINAL-URL:https://corridasderuars.com.br
X-WR-CALDESC:Events for Corridas de Rua - RS
BEGIN:VEVENT
DTSTART;TZID=UTC+0:20190825T090000
DTEND;TZID=UTC+0:20190825T090000
DTSTAMP:20260420T100949
CREATED:20190716T150330Z
LAST-MODIFIED:20190716T150330Z
UID:5410-1566723600-1566723600@corridasderuars.com.br
SUMMARY:Rústica Centenário da Presença do Exército Brasileiro em Santo Ângelo
DESCRIPTION:
URL:https://corridasderuars.com.br/evento/rustica-centenario-da-presenca-do-exercito-brasileiro-em-santo-angelo/
CATEGORIES:5km
ATTACH;FMTTYPE=image/jpeg:https://corridasderuars.com.br/wp-content/uploads/2017/07/bg10-1.jpg
END:VEVENT
END:VCALENDAR