BEGIN:VCALENDAR
VERSION:2.0
PRODID:-//Corridas de Rua - RS - ECPv4.5.7//NONSGML v1.0//EN
CALSCALE:GREGORIAN
METHOD:PUBLISH
X-WR-CALNAME:Corridas de Rua - RS
X-ORIGINAL-URL:https://corridasderuars.com.br
X-WR-CALDESC:Events for Corridas de Rua - RS
BEGIN:VEVENT
DTSTART;TZID=UTC+0:20190825T153000
DTEND;TZID=UTC+0:20190825T153000
DTSTAMP:20260421T100827
CREATED:20190805T175533Z
LAST-MODIFIED:20190805T175620Z
UID:5489-1566747000-1566747000@corridasderuars.com.br
SUMMARY:Rústica 60 anos Décio Ambrózi
DESCRIPTION:
URL:https://corridasderuars.com.br/evento/rustica-60-anos-decio-ambrozi/
CATEGORIES:6.2km
ATTACH;FMTTYPE=image/jpeg:https://corridasderuars.com.br/wp-content/uploads/2018/10/bg84.jpg
END:VEVENT
END:VCALENDAR