BEGIN:VCALENDAR
VERSION:2.0
PRODID:-//Corridas de Rua - RS - ECPv4.5.7//NONSGML v1.0//EN
CALSCALE:GREGORIAN
METHOD:PUBLISH
X-WR-CALNAME:Corridas de Rua - RS
X-ORIGINAL-URL:https://corridasderuars.com.br
X-WR-CALDESC:Events for Corridas de Rua - RS
BEGIN:VEVENT
DTSTART;TZID=UTC+0:20180415T090000
DTEND;TZID=UTC+0:20180415T090000
DTSTAMP:20260420T003907
CREATED:20180321T113814Z
LAST-MODIFIED:20180321T113814Z
UID:3687-1523782800-1523782800@corridasderuars.com.br
SUMMARY:Rústica 14 Anos da Equipe ABA
DESCRIPTION:
URL:https://corridasderuars.com.br/evento/rustica-14-anos-da-equipe-aba/
CATEGORIES:6km
ATTACH;FMTTYPE=image/jpeg:https://corridasderuars.com.br/wp-content/uploads/2017/07/bg25-1.jpg
END:VEVENT
END:VCALENDAR