BEGIN:VCALENDAR
VERSION:2.0
PRODID:-//Corridas de Rua - RS - ECPv4.5.7//NONSGML v1.0//EN
CALSCALE:GREGORIAN
METHOD:PUBLISH
X-WR-CALNAME:Corridas de Rua - RS
X-ORIGINAL-URL:https://corridasderuars.com.br
X-WR-CALDESC:Events for Corridas de Rua - RS
BEGIN:VEVENT
DTSTART;TZID=UTC+0:20180113T190000
DTEND;TZID=UTC+0:20180113T190000
DTSTAMP:20260420T054035
CREATED:20180102T115000Z
LAST-MODIFIED:20180102T115000Z
UID:3380-1515870000-1515870000@corridasderuars.com.br
SUMMARY:Run Fest Filosófica
DESCRIPTION:
URL:https://corridasderuars.com.br/evento/run-fest-filosofica/
CATEGORIES:3.2km
ATTACH;FMTTYPE=image/jpeg:https://corridasderuars.com.br/wp-content/uploads/2017/07/bgNoturna.jpg
END:VEVENT
END:VCALENDAR