BEGIN:VCALENDAR
VERSION:2.0
PRODID:-//Corridas de Rua - RS - ECPv4.5.7//NONSGML v1.0//EN
CALSCALE:GREGORIAN
METHOD:PUBLISH
X-WR-CALNAME:Corridas de Rua - RS
X-ORIGINAL-URL:https://corridasderuars.com.br
X-WR-CALDESC:Events for Corridas de Rua - RS
BEGIN:VEVENT
DTSTART;TZID=UTC+0:20210529T000000
DTEND;TZID=UTC+0:20210530T000000
DTSTAMP:20260421T124745
CREATED:20210420T120551Z
LAST-MODIFIED:20210420T120551Z
UID:7103-1622246400-1622332800@corridasderuars.com.br
SUMMARY:Run 4 Zero Carbon Corrida Virtual
DESCRIPTION:
URL:https://corridasderuars.com.br/evento/run-4-zero-carbon-corrida-virtual/
CATEGORIES:10km,21km,5km
ATTACH;FMTTYPE=image/jpeg:https://corridasderuars.com.br/wp-content/uploads/2018/10/bg76.jpg
END:VEVENT
END:VCALENDAR