BEGIN:VCALENDAR
VERSION:2.0
PRODID:-//Corridas de Rua - RS - ECPv4.5.7//NONSGML v1.0//EN
CALSCALE:GREGORIAN
METHOD:PUBLISH
X-WR-CALNAME:Corridas de Rua - RS
X-ORIGINAL-URL:https://corridasderuars.com.br
X-WR-CALDESC:Events for Corridas de Rua - RS
BEGIN:VEVENT
DTSTART;TZID=UTC+0:20191103T080000
DTEND;TZID=UTC+0:20191103T080000
DTSTAMP:20260420T100958
CREATED:20190813T140331Z
LAST-MODIFIED:20190925T131958Z
UID:5510-1572768000-1572768000@corridasderuars.com.br
SUMMARY:Circuito Mexa-se pela Vida - 3º Edição
DESCRIPTION:
URL:https://corridasderuars.com.br/evento/prado-day-run-3o-edicao/
CATEGORIES:5km
ATTACH;FMTTYPE=image/jpeg:https://corridasderuars.com.br/wp-content/uploads/2017/12/bg57.jpg
END:VEVENT
END:VCALENDAR