BEGIN:VCALENDAR
VERSION:2.0
PRODID:-//Corridas de Rua - RS - ECPv4.5.7//NONSGML v1.0//EN
CALSCALE:GREGORIAN
METHOD:PUBLISH
X-WR-CALNAME:Corridas de Rua - RS
X-ORIGINAL-URL:https://corridasderuars.com.br
X-WR-CALDESC:Events for Corridas de Rua - RS
BEGIN:VEVENT
DTSTART;TZID=UTC+0:20180812T090000
DTEND;TZID=UTC+0:20180812T090000
DTSTAMP:20260419T231410
CREATED:20180430T130954Z
LAST-MODIFIED:20180430T130954Z
UID:3817-1534064400-1534064400@corridasderuars.com.br
SUMMARY:Poa Day Run
DESCRIPTION:
URL:https://corridasderuars.com.br/evento/poa-day-run/
CATEGORIES:16km,3km,5km,8km
ATTACH;FMTTYPE=image/jpeg:https://corridasderuars.com.br/wp-content/uploads/2017/07/bg4-1.jpg
END:VEVENT
END:VCALENDAR