BEGIN:VCALENDAR
VERSION:2.0
PRODID:-//Corridas de Rua - RS - ECPv4.5.7//NONSGML v1.0//EN
CALSCALE:GREGORIAN
METHOD:PUBLISH
X-WR-CALNAME:Corridas de Rua - RS
X-ORIGINAL-URL:https://corridasderuars.com.br
X-WR-CALDESC:Events for Corridas de Rua - RS
BEGIN:VEVENT
DTSTART;TZID=UTC+0:20180408T070000
DTEND;TZID=UTC+0:20180408T070000
DTSTAMP:20260420T034834
CREATED:20180308T130726Z
LAST-MODIFIED:20180308T130804Z
UID:3654-1523170800-1523170800@corridasderuars.com.br
SUMMARY:POA 21K
DESCRIPTION:
URL:https://corridasderuars.com.br/evento/poa-21k/
CATEGORIES:21km
ATTACH;FMTTYPE=image/jpeg:https://corridasderuars.com.br/wp-content/uploads/2017/07/bg15-1.jpg
END:VEVENT
END:VCALENDAR