BEGIN:VCALENDAR
VERSION:2.0
PRODID:-//Corridas de Rua - RS - ECPv4.5.7//NONSGML v1.0//EN
CALSCALE:GREGORIAN
METHOD:PUBLISH
X-WR-CALNAME:Corridas de Rua - RS
X-ORIGINAL-URL:https://corridasderuars.com.br
X-WR-CALDESC:Events for Corridas de Rua - RS
BEGIN:VEVENT
DTSTART;TZID=UTC+0:20181014T080000
DTEND;TZID=UTC+0:20181014T080000
DTSTAMP:20260419T235809
CREATED:20180928T163342Z
LAST-MODIFIED:20180928T163342Z
UID:4309-1539504000-1539504000@corridasderuars.com.br
SUMMARY:Pink Run
DESCRIPTION:
URL:https://corridasderuars.com.br/evento/pink-run/
CATEGORIES:10km,3km,5km
ATTACH;FMTTYPE=image/jpeg:https://corridasderuars.com.br/wp-content/uploads/2017/07/bg11-1.jpg
END:VEVENT
END:VCALENDAR