BEGIN:VCALENDAR
VERSION:2.0
PRODID:-//Corridas de Rua - RS - ECPv4.5.7//NONSGML v1.0//EN
CALSCALE:GREGORIAN
METHOD:PUBLISH
X-WR-CALNAME:Corridas de Rua - RS
X-ORIGINAL-URL:https://corridasderuars.com.br
X-WR-CALDESC:Events for Corridas de Rua - RS
BEGIN:VEVENT
DTSTART;TZID=UTC+0:20220821T090000
DTEND;TZID=UTC+0:20220821T090000
DTSTAMP:20260421T155901
CREATED:20220804T134555Z
LAST-MODIFIED:20220804T134555Z
UID:8353-1661072400-1661072400@corridasderuars.com.br
SUMMARY:Park Agility Run
DESCRIPTION:
URL:https://corridasderuars.com.br/evento/park-agility-run-3/
CATEGORIES:6km
ATTACH;FMTTYPE=image/jpeg:https://corridasderuars.com.br/wp-content/uploads/2021/10/5.jpg
END:VEVENT
END:VCALENDAR