BEGIN:VCALENDAR
VERSION:2.0
PRODID:-//Corridas de Rua - RS - ECPv4.5.7//NONSGML v1.0//EN
CALSCALE:GREGORIAN
METHOD:PUBLISH
X-WR-CALNAME:Corridas de Rua - RS
X-ORIGINAL-URL:https://corridasderuars.com.br
X-WR-CALDESC:Events for Corridas de Rua - RS
BEGIN:VEVENT
DTSTART;TZID=UTC+0:20181214T203000
DTEND;TZID=UTC+0:20181214T203000
DTSTAMP:20260421T084117
CREATED:20181113T135224Z
LAST-MODIFIED:20181206T133448Z
UID:4502-1544819400-1544819400@corridasderuars.com.br
SUMMARY:Night Fest Circuito dos Vales Imec Supermercados
DESCRIPTION:
URL:https://corridasderuars.com.br/evento/nigth-fest-circuito-dos-vales-imec-supermecados/
CATEGORIES:3km,5km
ATTACH;FMTTYPE=image/jpeg:https://corridasderuars.com.br/wp-content/uploads/2017/12/bg56.jpg
END:VEVENT
END:VCALENDAR