BEGIN:VCALENDAR
VERSION:2.0
PRODID:-//Corridas de Rua - RS - ECPv4.5.7//NONSGML v1.0//EN
CALSCALE:GREGORIAN
METHOD:PUBLISH
X-WR-CALNAME:Corridas de Rua - RS
X-ORIGINAL-URL:https://corridasderuars.com.br
X-WR-CALDESC:Events for Corridas de Rua - RS
BEGIN:VEVENT
DTSTART;TZID=UTC+0:20171210T080000
DTEND;TZID=UTC+0:20171210T080000
DTSTAMP:20260420T071232
CREATED:20171025T184720Z
LAST-MODIFIED:20171025T184720Z
UID:2977-1512892800-1512892800@corridasderuars.com.br
SUMMARY:Meia Maratona Estância Velha
DESCRIPTION:
URL:https://corridasderuars.com.br/evento/meia-maratona-estancia-velha/
CATEGORIES:10km,21km,6km
ATTACH;FMTTYPE=image/jpeg:https://corridasderuars.com.br/wp-content/uploads/2017/07/bg28-1.jpg
END:VEVENT
END:VCALENDAR