BEGIN:VCALENDAR
VERSION:2.0
PRODID:-//Corridas de Rua - RS - ECPv4.5.7//NONSGML v1.0//EN
CALSCALE:GREGORIAN
METHOD:PUBLISH
X-WR-CALNAME:Corridas de Rua - RS
X-ORIGINAL-URL:https://corridasderuars.com.br
X-WR-CALDESC:Events for Corridas de Rua - RS
BEGIN:VEVENT
DTSTART;TZID=UTC+0:20210907T080000
DTEND;TZID=UTC+0:20210907T080000
DTSTAMP:20260421T084014
CREATED:20210824T123730Z
LAST-MODIFIED:20210824T123730Z
UID:7319-1631001600-1631001600@corridasderuars.com.br
SUMMARY:Meia Maratona da Independência
DESCRIPTION:
URL:https://corridasderuars.com.br/evento/meia-maratona-da-independencia/
CATEGORIES:10km,21km,4km
ATTACH;FMTTYPE=image/jpeg:https://corridasderuars.com.br/wp-content/uploads/2017/07/bg23-1.jpg
END:VEVENT
END:VCALENDAR