BEGIN:VCALENDAR
VERSION:2.0
PRODID:-//Corridas de Rua - RS - ECPv4.5.7//NONSGML v1.0//EN
CALSCALE:GREGORIAN
METHOD:PUBLISH
X-WR-CALNAME:Corridas de Rua - RS
X-ORIGINAL-URL:https://corridasderuars.com.br
X-WR-CALDESC:Events for Corridas de Rua - RS
BEGIN:VEVENT
DTSTART;TZID=UTC+0:20220501T073000
DTEND;TZID=UTC+0:20220501T073000
DTSTAMP:20260421T085401
CREATED:20220210T150119Z
LAST-MODIFIED:20220210T150119Z
UID:7832-1651390200-1651390200@corridasderuars.com.br
SUMMARY:Meia Maratona 164 anos de Santa Maria
DESCRIPTION:
URL:https://corridasderuars.com.br/evento/meia-maratona-164-anos-de-santa-maria/
CATEGORIES:21km
ATTACH;FMTTYPE=image/jpeg:https://corridasderuars.com.br/wp-content/uploads/2017/07/bg34.jpg
END:VEVENT
END:VCALENDAR