BEGIN:VCALENDAR
VERSION:2.0
PRODID:-//Corridas de Rua - RS - ECPv4.5.7//NONSGML v1.0//EN
CALSCALE:GREGORIAN
METHOD:PUBLISH
X-WR-CALNAME:Corridas de Rua - RS
X-ORIGINAL-URL:https://corridasderuars.com.br
X-WR-CALDESC:Events for Corridas de Rua - RS
BEGIN:VEVENT
DTSTART;TZID=UTC+0:20181209T070000
DTEND;TZID=UTC+0:20181209T070000
DTSTAMP:20260419T214134
CREATED:20180921T142439Z
LAST-MODIFIED:20180921T142439Z
UID:4271-1544338800-1544338800@corridasderuars.com.br
SUMMARY:Maratona Petrobrás de Revezamento
DESCRIPTION:
URL:https://corridasderuars.com.br/evento/maratona-petrobras-de-revezamento/
CATEGORIES:42km
ATTACH;FMTTYPE=image/jpeg:https://corridasderuars.com.br/wp-content/uploads/2017/07/bg14-1.jpg
END:VEVENT
END:VCALENDAR