BEGIN:VCALENDAR
VERSION:2.0
PRODID:-//Corridas de Rua - RS - ECPv4.5.7//NONSGML v1.0//EN
CALSCALE:GREGORIAN
METHOD:PUBLISH
X-WR-CALNAME:Corridas de Rua - RS
X-ORIGINAL-URL:https://corridasderuars.com.br
X-WR-CALDESC:Events for Corridas de Rua - RS
BEGIN:VEVENT
DTSTART;TZID=UTC+0:20180622T083000
DTEND;TZID=UTC+0:20180622T083000
DTSTAMP:20260420T003836
CREATED:20180410T165443Z
LAST-MODIFIED:20180410T165443Z
UID:3758-1529656200-1529656200@corridasderuars.com.br
SUMMARY:La Sfida - Etapa Vinhos
DESCRIPTION:
URL:https://corridasderuars.com.br/evento/la-sfida-etapa-vinhos/
ATTACH;FMTTYPE=image/jpeg:https://corridasderuars.com.br/wp-content/uploads/2017/12/bg45.jpg
END:VEVENT
END:VCALENDAR