BEGIN:VCALENDAR
VERSION:2.0
PRODID:-//Corridas de Rua - RS - ECPv4.5.7//NONSGML v1.0//EN
CALSCALE:GREGORIAN
METHOD:PUBLISH
X-WR-CALNAME:Corridas de Rua - RS
X-ORIGINAL-URL:https://corridasderuars.com.br
X-WR-CALDESC:Events for Corridas de Rua - RS
BEGIN:VEVENT
DTSTART;TZID=UTC+0:20211212T080000
DTEND;TZID=UTC+0:20211212T080000
DTSTAMP:20260421T140227
CREATED:20211116T151616Z
LAST-MODIFIED:20211116T151616Z
UID:7534-1639296000-1639296000@corridasderuars.com.br
SUMMARY:IV Rústica Marista
DESCRIPTION:
URL:https://corridasderuars.com.br/evento/iv-rustica-marista/
CATEGORIES:1.5km,5km
ATTACH;FMTTYPE=image/jpeg:https://corridasderuars.com.br/wp-content/uploads/2019/08/bg219.jpg
END:VEVENT
END:VCALENDAR