BEGIN:VCALENDAR
VERSION:2.0
PRODID:-//Corridas de Rua - RS - ECPv4.5.7//NONSGML v1.0//EN
CALSCALE:GREGORIAN
METHOD:PUBLISH
X-WR-CALNAME:Corridas de Rua - RS
X-ORIGINAL-URL:https://corridasderuars.com.br
X-WR-CALDESC:Events for Corridas de Rua - RS
BEGIN:VEVENT
DTSTART;TZID=UTC+0:20180331T170000
DTEND;TZID=UTC+0:20180331T170000
DTSTAMP:20260420T051826
CREATED:20180215T183703Z
LAST-MODIFIED:20180219T125230Z
UID:3591-1522515600-1522515600@corridasderuars.com.br
SUMMARY:IV Corrida pelas Doenças Raras
DESCRIPTION:
URL:https://corridasderuars.com.br/evento/iv-correndo-pelas-doencas-raras/
CATEGORIES:10km,5km
ATTACH;FMTTYPE=image/jpeg:https://corridasderuars.com.br/wp-content/uploads/2017/07/bg17-1.jpg
END:VEVENT
END:VCALENDAR