BEGIN:VCALENDAR
VERSION:2.0
PRODID:-//Corridas de Rua - RS - ECPv4.5.7//NONSGML v1.0//EN
CALSCALE:GREGORIAN
METHOD:PUBLISH
X-WR-CALNAME:Corridas de Rua - RS
X-ORIGINAL-URL:https://corridasderuars.com.br
X-WR-CALDESC:Events for Corridas de Rua - RS
BEGIN:VEVENT
DTSTART;TZID=UTC+0:20171104T090000
DTEND;TZID=UTC+0:20171104T090000
DTSTAMP:20260420T100438
CREATED:20171025T181023Z
LAST-MODIFIED:20171025T181023Z
UID:2944-1509786000-1509786000@corridasderuars.com.br
SUMMARY:Itrend Running
DESCRIPTION:A iTrend e a Professora Aline Negruni convidam você para participar de uma corrida beneficente! \nONDE: O aquecimento vai começar na iTrend Beira Mar! Rua Moema 3089. \nQUANDO: dia 04.11 às 9h. \nCOMO: Vamos percorrer um trajeto pela areia e pelo asfalto\, serão 3 distâncias: 4km\, 8km e 12km! \nINSCRIÇÃO é feito na hora: levar 1kg de alimento não perecível que será destinado ao Forno da Dona Zezé que alimenta crianças carentes com muito amor. \n* é um treino de corrida aberto ao público\, não precisa ser atleta para participar! \nPartiu então? Esperamos vocês lá 🙂\nConfirma presença no evento e já vai aquecendo aí! \n
URL:https://corridasderuars.com.br/evento/itrend-running/
CATEGORIES:12km,4km,8km
ATTACH;FMTTYPE=image/jpeg:https://corridasderuars.com.br/wp-content/uploads/2017/07/bg37.jpg
END:VEVENT
END:VCALENDAR