BEGIN:VCALENDAR
VERSION:2.0
PRODID:-//Corridas de Rua - RS - ECPv4.5.7//NONSGML v1.0//EN
CALSCALE:GREGORIAN
METHOD:PUBLISH
X-WR-CALNAME:Corridas de Rua - RS
X-ORIGINAL-URL:https://corridasderuars.com.br
X-WR-CALDESC:Events for Corridas de Rua - RS
BEGIN:VEVENT
DTSTART;TZID=UTC+0:20211205T080000
DTEND;TZID=UTC+0:20211205T080000
DTSTAMP:20260419T164319
CREATED:20211108T192619Z
LAST-MODIFIED:20211108T192619Z
UID:7516-1638691200-1638691200@corridasderuars.com.br
SUMMARY:III Rústica Missioneira
DESCRIPTION:
URL:https://corridasderuars.com.br/evento/iii-rustica-missioneira/
CATEGORIES:16km,2km
ATTACH;FMTTYPE=image/jpeg:https://corridasderuars.com.br/wp-content/uploads/2018/10/bg83.jpg
END:VEVENT
END:VCALENDAR