BEGIN:VCALENDAR
VERSION:2.0
PRODID:-//Corridas de Rua - RS - ECPv4.5.7//NONSGML v1.0//EN
CALSCALE:GREGORIAN
METHOD:PUBLISH
X-WR-CALNAME:Corridas de Rua - RS
X-ORIGINAL-URL:https://corridasderuars.com.br
X-WR-CALDESC:Events for Corridas de Rua - RS
BEGIN:VEVENT
DTSTART;TZID=UTC+0:20170812T190000
DTEND;TZID=UTC+0:20170812T190000
DTSTAMP:20260420T040923
CREATED:20170710T173723Z
LAST-MODIFIED:20170804T145644Z
UID:2345-1502564400-1502564400@corridasderuars.com.br
SUMMARY:4ª Rio Grande Night Run
DESCRIPTION:
URL:https://corridasderuars.com.br/evento/iii-etapa-circuito-riograndino-night-run/
CATEGORIES:5km
ATTACH;FMTTYPE=image/jpeg:https://corridasderuars.com.br/wp-content/uploads/2017/07/bgNoturna.jpg
END:VEVENT
END:VCALENDAR