BEGIN:VCALENDAR
VERSION:2.0
PRODID:-//Corridas de Rua - RS - ECPv4.5.7//NONSGML v1.0//EN
CALSCALE:GREGORIAN
METHOD:PUBLISH
X-WR-CALNAME:Corridas de Rua - RS
X-ORIGINAL-URL:https://corridasderuars.com.br
X-WR-CALDESC:Events for Corridas de Rua - RS
BEGIN:VEVENT
DTSTART;TZID=UTC+0:20171203T093000
DTEND;TZID=UTC+0:20171203T093000
DTSTAMP:20260420T054049
CREATED:20171101T170724Z
LAST-MODIFIED:20171101T170724Z
UID:3022-1512293400-1512293400@corridasderuars.com.br
SUMMARY:III Corrida do Bem Campos de Cima da Serra
DESCRIPTION:
URL:https://corridasderuars.com.br/evento/iii-corrida-do-bem-campos-de-cima-da-serra/
CATEGORIES:5km
ATTACH;FMTTYPE=image/jpeg:https://corridasderuars.com.br/wp-content/uploads/2017/07/bg17-1.jpg
END:VEVENT
END:VCALENDAR