BEGIN:VCALENDAR
VERSION:2.0
PRODID:-//Corridas de Rua - RS - ECPv4.5.7//NONSGML v1.0//EN
CALSCALE:GREGORIAN
METHOD:PUBLISH
X-WR-CALNAME:Corridas de Rua - RS
X-ORIGINAL-URL:https://corridasderuars.com.br
X-WR-CALDESC:Events for Corridas de Rua - RS
BEGIN:VEVENT
DTSTART;TZID=UTC+0:20191109T153000
DTEND;TZID=UTC+0:20191109T153000
DTSTAMP:20260421T113316
CREATED:20191008T152109Z
LAST-MODIFIED:20191008T152109Z
UID:5803-1573313400-1573313400@corridasderuars.com.br
SUMMARY:II Rústica Ação pela Vida
DESCRIPTION:
URL:https://corridasderuars.com.br/evento/ii-rustica-acao-pela-vida/
CATEGORIES:1.5km,5km
ATTACH;FMTTYPE=image/jpeg:https://corridasderuars.com.br/wp-content/uploads/2018/10/bg77.jpg
END:VEVENT
END:VCALENDAR