BEGIN:VCALENDAR
VERSION:2.0
PRODID:-//Corridas de Rua - RS - ECPv4.5.7//NONSGML v1.0//EN
CALSCALE:GREGORIAN
METHOD:PUBLISH
X-WR-CALNAME:Corridas de Rua - RS
X-ORIGINAL-URL:https://corridasderuars.com.br
X-WR-CALDESC:Events for Corridas de Rua - RS
BEGIN:VEVENT
DTSTART;TZID=UTC+0:20180819T080000
DTEND;TZID=UTC+0:20180819T080000
DTSTAMP:20260419T214140
CREATED:20180620T123355Z
LAST-MODIFIED:20180620T123355Z
UID:3965-1534665600-1534665600@corridasderuars.com.br
SUMMARY:II Rústica Abamf/Brigada Militar Caxias
DESCRIPTION:
URL:https://corridasderuars.com.br/evento/ii-rustica-abamfbrigada-militar-caxias/
CATEGORIES:10km,5km
ATTACH;FMTTYPE=image/jpeg:https://corridasderuars.com.br/wp-content/uploads/2017/07/bg20-1.jpg
END:VEVENT
END:VCALENDAR