BEGIN:VCALENDAR
VERSION:2.0
PRODID:-//Corridas de Rua - RS - ECPv4.5.7//NONSGML v1.0//EN
CALSCALE:GREGORIAN
METHOD:PUBLISH
X-WR-CALNAME:Corridas de Rua - RS
X-ORIGINAL-URL:https://corridasderuars.com.br
X-WR-CALDESC:Events for Corridas de Rua - RS
BEGIN:VEVENT
DTSTART;TZID=UTC+0:20181215T203000
DTEND;TZID=UTC+0:20181215T203000
DTSTAMP:20260419T155222
CREATED:20180918T114727Z
LAST-MODIFIED:20180918T114727Z
UID:4259-1544905800-1544905800@corridasderuars.com.br
SUMMARY:II Night Run Jornal Primeira Página
DESCRIPTION:
URL:https://corridasderuars.com.br/evento/ii-night-run-jornal-primeira-pagina/
CATEGORIES:3km,6km
ATTACH;FMTTYPE=image/jpeg:https://corridasderuars.com.br/wp-content/uploads/2017/07/bgNoturna.jpg
END:VEVENT
END:VCALENDAR