BEGIN:VCALENDAR
VERSION:2.0
PRODID:-//Corridas de Rua - RS - ECPv4.5.7//NONSGML v1.0//EN
CALSCALE:GREGORIAN
METHOD:PUBLISH
X-WR-CALNAME:Corridas de Rua - RS
X-ORIGINAL-URL:https://corridasderuars.com.br
X-WR-CALDESC:Events for Corridas de Rua - RS
BEGIN:VEVENT
DTSTART;TZID=UTC+0:20211107T073000
DTEND;TZID=UTC+0:20211107T073000
DTSTAMP:20260419T135606
CREATED:20201216T172030Z
LAST-MODIFIED:20201216T172030Z
UID:6980-1636270200-1636270200@corridasderuars.com.br
SUMMARY:II Meia Maratona de Igrejinha
DESCRIPTION:
URL:https://corridasderuars.com.br/evento/ii-meia-maratona-de-igrejinha/
CATEGORIES:21km,5km
ATTACH;FMTTYPE=image/jpeg:https://corridasderuars.com.br/wp-content/uploads/2017/07/bg34.jpg
END:VEVENT
END:VCALENDAR