BEGIN:VCALENDAR
VERSION:2.0
PRODID:-//Corridas de Rua - RS - ECPv4.5.7//NONSGML v1.0//EN
CALSCALE:GREGORIAN
METHOD:PUBLISH
X-WR-CALNAME:Corridas de Rua - RS
X-ORIGINAL-URL:https://corridasderuars.com.br
X-WR-CALDESC:Events for Corridas de Rua - RS
BEGIN:VEVENT
DTSTART;TZID=UTC+0:20171210T100000
DTEND;TZID=UTC+0:20171210T100000
DTSTAMP:20260420T054229
CREATED:20171002T130859Z
LAST-MODIFIED:20171002T132824Z
UID:2887-1512900000-1512900000@corridasderuars.com.br
SUMMARY:II Cross Country & Rústica da Inclusão
DESCRIPTION:
URL:https://corridasderuars.com.br/evento/ii-cross-country-rustica-da-inclusao/
CATEGORIES:10km
ATTACH;FMTTYPE=image/jpeg:https://corridasderuars.com.br/wp-content/uploads/2017/07/bgCountry1.jpg
END:VEVENT
END:VCALENDAR