BEGIN:VCALENDAR
VERSION:2.0
PRODID:-//Corridas de Rua - RS - ECPv4.5.7//NONSGML v1.0//EN
CALSCALE:GREGORIAN
METHOD:PUBLISH
X-WR-CALNAME:Corridas de Rua - RS
X-ORIGINAL-URL:https://corridasderuars.com.br
X-WR-CALDESC:Events for Corridas de Rua - RS
BEGIN:VEVENT
DTSTART;TZID=UTC+0:20190217T083000
DTEND;TZID=UTC+0:20190217T083000
DTSTAMP:20260420T101054
CREATED:20190213T201105Z
LAST-MODIFIED:20190215T124239Z
UID:4840-1550392200-1550392200@corridasderuars.com.br
SUMMARY:I Running da Academia Consciência do Corpo
DESCRIPTION:
URL:https://corridasderuars.com.br/evento/i-running-da-academia-consciencia-do-corpo/
CATEGORIES:2km,7km
ATTACH;FMTTYPE=image/jpeg:https://corridasderuars.com.br/wp-content/uploads/2018/10/bg83.jpg
END:VEVENT
END:VCALENDAR