BEGIN:VCALENDAR
VERSION:2.0
PRODID:-//Corridas de Rua - RS - ECPv4.5.7//NONSGML v1.0//EN
CALSCALE:GREGORIAN
METHOD:PUBLISH
X-WR-CALNAME:Corridas de Rua - RS
X-ORIGINAL-URL:https://corridasderuars.com.br
X-WR-CALDESC:Events for Corridas de Rua - RS
BEGIN:VEVENT
DTSTART;TZID=UTC+0:20170917T090000
DTEND;TZID=UTC+0:20170917T090000
DTSTAMP:20260420T071119
CREATED:20170906T143900Z
LAST-MODIFIED:20170906T144325Z
UID:2775-1505638800-1505638800@corridasderuars.com.br
SUMMARY:I CORRIDA RÚSTICA SEMANA FARROUPILHA
DESCRIPTION:
URL:https://corridasderuars.com.br/evento/i-corrida-rustica-semana-farroupilha/
CATEGORIES:4km
ATTACH;FMTTYPE=image/jpeg:https://corridasderuars.com.br/wp-content/uploads/2017/07/bgPista.jpg
END:VEVENT
END:VCALENDAR