BEGIN:VCALENDAR
VERSION:2.0
PRODID:-//Corridas de Rua - RS - ECPv4.5.7//NONSGML v1.0//EN
CALSCALE:GREGORIAN
METHOD:PUBLISH
X-WR-CALNAME:Corridas de Rua - RS
X-ORIGINAL-URL:https://corridasderuars.com.br
X-WR-CALDESC:Events for Corridas de Rua - RS
BEGIN:VEVENT
DTSTART;TZID=UTC+0:20180722T093000
DTEND;TZID=UTC+0:20180722T093000
DTSTAMP:20260420T040018
CREATED:20180614T115218Z
LAST-MODIFIED:20180614T115218Z
UID:3953-1532251800-1532251800@corridasderuars.com.br
SUMMARY:I Circuito de Corrida de Rua
DESCRIPTION:
URL:https://corridasderuars.com.br/evento/i-circuito-de-corrida-de-rua-2/
CATEGORIES:4km
ATTACH;FMTTYPE=image/jpeg:https://corridasderuars.com.br/wp-content/uploads/2017/07/bg37.jpg
END:VEVENT
END:VCALENDAR