BEGIN:VCALENDAR
VERSION:2.0
PRODID:-//Corridas de Rua - RS - ECPv4.5.7//NONSGML v1.0//EN
CALSCALE:GREGORIAN
METHOD:PUBLISH
X-WR-CALNAME:Corridas de Rua - RS
X-ORIGINAL-URL:https://corridasderuars.com.br
X-WR-CALDESC:Events for Corridas de Rua - RS
BEGIN:VEVENT
DTSTART;TZID=UTC+0:20180421T170000
DTEND;TZID=UTC+0:20180421T170000
DTSTAMP:20260420T021804
CREATED:20180315T125019Z
LAST-MODIFIED:20180315T125019Z
UID:3679-1524330000-1524330000@corridasderuars.com.br
SUMMARY:I Circuito Corre-Caminhada - Etapa Alegrete
DESCRIPTION:
URL:https://corridasderuars.com.br/evento/i-circuito-corre-caminhada-etapa-alegrete/
CATEGORIES:3km,8km
ATTACH;FMTTYPE=image/jpeg:https://corridasderuars.com.br/wp-content/uploads/2017/07/bg4-1.jpg
END:VEVENT
END:VCALENDAR