BEGIN:VCALENDAR
VERSION:2.0
PRODID:-//Corridas de Rua - RS - ECPv4.5.7//NONSGML v1.0//EN
CALSCALE:GREGORIAN
METHOD:PUBLISH
X-WR-CALNAME:Corridas de Rua - RS
X-ORIGINAL-URL:https://corridasderuars.com.br
X-WR-CALDESC:Events for Corridas de Rua - RS
BEGIN:VEVENT
DTSTART;TZID=UTC+0:20190519T070000
DTEND;TZID=UTC+0:20190519T070000
DTSTAMP:20260420T101156
CREATED:20190325T131738Z
LAST-MODIFIED:20190325T131738Z
UID:4936-1558249200-1558249200@corridasderuars.com.br
SUMMARY:Hospital Moinhos de Vento Poa 21K
DESCRIPTION:
URL:https://corridasderuars.com.br/evento/hospital-moinhos-de-vento-poa-21k/
CATEGORIES:21km
ATTACH;FMTTYPE=image/jpeg:https://corridasderuars.com.br/wp-content/uploads/2017/07/bg1-1.jpg
END:VEVENT
END:VCALENDAR