BEGIN:VCALENDAR
VERSION:2.0
PRODID:-//Corridas de Rua - RS - ECPv4.5.7//NONSGML v1.0//EN
CALSCALE:GREGORIAN
METHOD:PUBLISH
X-WR-CALNAME:Corridas de Rua - RS
X-ORIGINAL-URL:https://corridasderuars.com.br
X-WR-CALDESC:Events for Corridas de Rua - RS
BEGIN:VEVENT
DTSTART;TZID=UTC+0:20260315T073000
DTEND;TZID=UTC+0:20260315T073000
DTSTAMP:20260420T100520
CREATED:20260305T192557Z
LAST-MODIFIED:20260305T192557Z
UID:14029-1773559800-1773559800@corridasderuars.com.br
SUMMARY:Gramado Run
DESCRIPTION:
URL:https://corridasderuars.com.br/evento/gramado-run/
CATEGORIES:5km
ATTACH;FMTTYPE=image/jpeg:https://corridasderuars.com.br/wp-content/uploads/2019/08/bg201.jpg
END:VEVENT
END:VCALENDAR