BEGIN:VCALENDAR
VERSION:2.0
PRODID:-//Corridas de Rua - RS - ECPv4.5.7//NONSGML v1.0//EN
CALSCALE:GREGORIAN
METHOD:PUBLISH
X-WR-CALNAME:Corridas de Rua - RS
X-ORIGINAL-URL:https://corridasderuars.com.br
X-WR-CALDESC:Events for Corridas de Rua - RS
BEGIN:VEVENT
DTSTART;TZID=UTC+0:20171217T093000
DTEND;TZID=UTC+0:20171217T093000
DTSTAMP:20260420T040518
CREATED:20171206T133115Z
LAST-MODIFIED:20171206T133115Z
UID:3293-1513503000-1513503000@corridasderuars.com.br
SUMMARY:Final do Circuito de Corrida do 2º RPMon
DESCRIPTION:
URL:https://corridasderuars.com.br/evento/final-do-circuito-de-corrida-do-2o-rpmon/
CATEGORIES:5.4km
ATTACH;FMTTYPE=image/jpeg:https://corridasderuars.com.br/wp-content/uploads/2017/12/bg61.jpg
END:VEVENT
END:VCALENDAR