BEGIN:VCALENDAR
VERSION:2.0
PRODID:-//Corridas de Rua - RS - ECPv4.5.7//NONSGML v1.0//EN
CALSCALE:GREGORIAN
METHOD:PUBLISH
X-WR-CALNAME:Corridas de Rua - RS
X-ORIGINAL-URL:https://corridasderuars.com.br
X-WR-CALDESC:Events for Corridas de Rua - RS
BEGIN:VEVENT
DTSTART;TZID=UTC+0:20211121T080000
DTEND;TZID=UTC+0:20211121T080000
DTSTAMP:20260421T124805
CREATED:20211023T182959Z
LAST-MODIFIED:20211023T182959Z
UID:7477-1637481600-1637481600@corridasderuars.com.br
SUMMARY:Feliz e Seus Encantos
DESCRIPTION:
URL:https://corridasderuars.com.br/evento/feliz-e-seus-encantos/
CATEGORIES:13.6km
ATTACH;FMTTYPE=image/jpeg:https://corridasderuars.com.br/wp-content/uploads/2017/12/bg49.jpg
END:VEVENT
END:VCALENDAR