BEGIN:VCALENDAR
VERSION:2.0
PRODID:-//Corridas de Rua - RS - ECPv4.5.7//NONSGML v1.0//EN
CALSCALE:GREGORIAN
METHOD:PUBLISH
X-WR-CALNAME:Corridas de Rua - RS
X-ORIGINAL-URL:https://corridasderuars.com.br
X-WR-CALDESC:Events for Corridas de Rua - RS
BEGIN:VEVENT
DTSTART;TZID=UTC+0:20180728T090000
DTEND;TZID=UTC+0:20180728T090000
DTSTAMP:20260420T021337
CREATED:20171110T172326Z
LAST-MODIFIED:20171204T175840Z
UID:3132-1532768400-1532768400@corridasderuars.com.br
SUMMARY:Faccat Trail Run
DESCRIPTION:
URL:https://corridasderuars.com.br/evento/faccat-trail-run/
CATEGORIES:21km,42km,7km
ATTACH;FMTTYPE=image/jpeg:https://corridasderuars.com.br/wp-content/uploads/2017/12/bg50.jpg
END:VEVENT
END:VCALENDAR