BEGIN:VCALENDAR
VERSION:2.0
PRODID:-//Corridas de Rua - RS - ECPv4.5.7//NONSGML v1.0//EN
CALSCALE:GREGORIAN
METHOD:PUBLISH
X-WR-CALNAME:Corridas de Rua - RS
X-ORIGINAL-URL:https://corridasderuars.com.br
X-WR-CALDESC:Events for Corridas de Rua - RS
BEGIN:VEVENT
DTSTART;TZID=UTC+0:20181115T100000
DTEND;TZID=UTC+0:20181115T100000
DTSTAMP:20260419T204536
CREATED:20180118T140412Z
LAST-MODIFIED:20180118T140451Z
UID:3486-1542276000-1542276000@corridasderuars.com.br
SUMMARY:Extremo Sul Ultramarathon
DESCRIPTION:Extremo Sul Ultramarathon – A Maior Praia do Mundo é uma travessia pedestre para se realizar no menor tempo possível\, em formato “non stop”\, entre a Barra de Rio Grande e a Barra de Chuí\, Santa Vitória do Palmar. É uma extensão de 226km e com tempo limite de 54 horas para se realizar nos dias 15 de Novembro a 17 de Novembro de 2018\, limitado a 100 inscrições. \n
URL:https://corridasderuars.com.br/evento/extremo-sul-ultramarathon/
CATEGORIES:226km
ATTACH;FMTTYPE=image/jpeg:https://corridasderuars.com.br/wp-content/uploads/2017/07/bgPraia1.jpg
END:VEVENT
END:VCALENDAR