BEGIN:VCALENDAR
VERSION:2.0
PRODID:-//Corridas de Rua - RS - ECPv4.5.7//NONSGML v1.0//EN
CALSCALE:GREGORIAN
METHOD:PUBLISH
X-WR-CALNAME:Corridas de Rua - RS
X-ORIGINAL-URL:https://corridasderuars.com.br
X-WR-CALDESC:Events for Corridas de Rua - RS
BEGIN:VEVENT
DTSTART;TZID=UTC+0:20210601T000000
DTEND;TZID=UTC+0:20210630T000000
DTSTAMP:20260421T125750
CREATED:20210506T141524Z
LAST-MODIFIED:20210506T141524Z
UID:7129-1622505600-1625011200@corridasderuars.com.br
SUMMARY:Dois Corações Um Amor
DESCRIPTION:
URL:https://corridasderuars.com.br/evento/dois-coracoes-um-amor/
CATEGORIES:12km,15km,24km,3km,7km
ATTACH;FMTTYPE=image/jpeg:https://corridasderuars.com.br/wp-content/uploads/2017/12/bg62.jpg
END:VEVENT
END:VCALENDAR