BEGIN:VCALENDAR
VERSION:2.0
PRODID:-//Corridas de Rua - RS - ECPv4.5.7//NONSGML v1.0//EN
CALSCALE:GREGORIAN
METHOD:PUBLISH
X-WR-CALNAME:Corridas de Rua - RS
X-ORIGINAL-URL:https://corridasderuars.com.br
X-WR-CALDESC:Events for Corridas de Rua - RS
BEGIN:VEVENT
DTSTART;TZID=UTC+0:20210715T000000
DTEND;TZID=UTC+0:20210731T000000
DTSTAMP:20260421T083558
CREATED:20210630T141807Z
LAST-MODIFIED:20210630T141807Z
UID:7211-1626307200-1627689600@corridasderuars.com.br
SUMMARY:Desafio Virtual Apaeano
DESCRIPTION:O Desafio Virtual Apaeano\, é para você celebrar o espírito do esporte correndo ou caminhando e de quebra ajudar a APAE de Tapes a continuar de portas abertas\, desenvolvendo o belíssimo trabalho que realiza desde 1985. \nO importante aqui é ter ATITUDE. Liberte sua corrida e solidariedade! \nHaverá medalha de participação para todos que concluírem a prova. \nTroféu para os 3 primeiros colocados da categoria geral de corrida 3k\, 5k e 10k. (Não haverá premiação para categoria por idade) \n– Você escolhe sua distância e corre onde e quando quiser entre os dias 15/07 e 31/07. \n– Marque o tempo e a distância com seu GPS\, aplicativo de corrida ou esteira\, envie a foto ou print como comprovante do seu desafio para o WhatsApp da APAE. \n– As vagas serão limitadas a inscrição poderá ser realizada até o dia 15/07/2021. \n– Valor: R$25\,00 \nPagamento via PIX\, que é o CNPJ da escola: 91.654.871/0001-84 \nEntre em contato pelo WhatsApp: (51) 985624010 \n
URL:https://corridasderuars.com.br/evento/desafio-virtual-apaeano/
ATTACH;FMTTYPE=image/jpeg:https://corridasderuars.com.br/wp-content/uploads/2019/08/bg208.jpg
END:VEVENT
END:VCALENDAR