BEGIN:VCALENDAR
VERSION:2.0
PRODID:-//Corridas de Rua - RS - ECPv4.5.7//NONSGML v1.0//EN
CALSCALE:GREGORIAN
METHOD:PUBLISH
X-WR-CALNAME:Corridas de Rua - RS
X-ORIGINAL-URL:https://corridasderuars.com.br
X-WR-CALDESC:Events for Corridas de Rua - RS
BEGIN:VEVENT
DTSTART;TZID=UTC+0:20190309T153000
DTEND;TZID=UTC+0:20190309T153000
DTSTAMP:20260420T101029
CREATED:20190205T171717Z
LAST-MODIFIED:20190205T171717Z
UID:4814-1552145400-1552145400@corridasderuars.com.br
SUMMARY:Desafio Unistalda de Corrida de Rua
DESCRIPTION:
URL:https://corridasderuars.com.br/evento/desafio-unistalda-de-corrida-de-rua/
CATEGORIES:2km,8km
ATTACH;FMTTYPE=image/jpeg:https://corridasderuars.com.br/wp-content/uploads/2017/07/bg25-1.jpg
END:VEVENT
END:VCALENDAR