BEGIN:VCALENDAR
VERSION:2.0
PRODID:-//Corridas de Rua - RS - ECPv4.5.7//NONSGML v1.0//EN
CALSCALE:GREGORIAN
METHOD:PUBLISH
X-WR-CALNAME:Corridas de Rua - RS
X-ORIGINAL-URL:https://corridasderuars.com.br
X-WR-CALDESC:Events for Corridas de Rua - RS
BEGIN:VEVENT
DTSTART;TZID=UTC+0:20191130T083000
DTEND;TZID=UTC+0:20191130T083000
DTSTAMP:20260420T101015
CREATED:20190613T152835Z
LAST-MODIFIED:20191113T173820Z
UID:5306-1575102600-1575102600@corridasderuars.com.br
SUMMARY:Desafio Raiz Vale dos Vinhedos
DESCRIPTION:
URL:https://corridasderuars.com.br/evento/desafio-raiz-vale-dos-vinhedos/
CATEGORIES:13km,21km,6km
ATTACH;FMTTYPE=image/jpeg:https://corridasderuars.com.br/wp-content/uploads/2018/10/bg85.jpg
END:VEVENT
END:VCALENDAR