BEGIN:VCALENDAR
VERSION:2.0
PRODID:-//Corridas de Rua - RS - ECPv4.5.7//NONSGML v1.0//EN
CALSCALE:GREGORIAN
METHOD:PUBLISH
X-WR-CALNAME:Corridas de Rua - RS
X-ORIGINAL-URL:https://corridasderuars.com.br
X-WR-CALDESC:Events for Corridas de Rua - RS
BEGIN:VEVENT
DTSTART;TZID=UTC+0:20190420T090000
DTEND;TZID=UTC+0:20190420T090000
DTSTAMP:20260421T100733
CREATED:20190226T131718Z
LAST-MODIFIED:20190226T131718Z
UID:4877-1555750800-1555750800@corridasderuars.com.br
SUMMARY:Desafio Raiz Morro São Pedro
DESCRIPTION:
URL:https://corridasderuars.com.br/evento/desafio-raiz-morro-sao-pedro/
CATEGORIES:11km,22km,6km
ATTACH;FMTTYPE=image/jpeg:https://corridasderuars.com.br/wp-content/uploads/2017/12/bg52.jpg
END:VEVENT
END:VCALENDAR