BEGIN:VCALENDAR
VERSION:2.0
PRODID:-//Corridas de Rua - RS - ECPv4.5.7//NONSGML v1.0//EN
CALSCALE:GREGORIAN
METHOD:PUBLISH
X-WR-CALNAME:Corridas de Rua - RS
X-ORIGINAL-URL:https://corridasderuars.com.br
X-WR-CALDESC:Events for Corridas de Rua - RS
BEGIN:VEVENT
DTSTART;TZID=UTC+0:20211107T090000
DTEND;TZID=UTC+0:20211107T090000
DTSTAMP:20260421T113238
CREATED:20211013T132903Z
LAST-MODIFIED:20211013T133010Z
UID:7439-1636275600-1636275600@corridasderuars.com.br
SUMMARY:Desafio Novembro Azul
DESCRIPTION:
URL:https://corridasderuars.com.br/evento/desafio-novembro-azul/
CATEGORIES:2km,5km
ATTACH;FMTTYPE=image/jpeg:https://corridasderuars.com.br/wp-content/uploads/2021/10/1.jpg
END:VEVENT
END:VCALENDAR