BEGIN:VCALENDAR
VERSION:2.0
PRODID:-//Corridas de Rua - RS - ECPv4.5.7//NONSGML v1.0//EN
CALSCALE:GREGORIAN
METHOD:PUBLISH
X-WR-CALNAME:Corridas de Rua - RS
X-ORIGINAL-URL:https://corridasderuars.com.br
X-WR-CALDESC:Events for Corridas de Rua - RS
BEGIN:VEVENT
DTSTART;TZID=UTC+0:20201214T000000
DTEND;TZID=UTC+0:20210121T000000
DTSTAMP:20260421T113147
CREATED:20201219T144341Z
LAST-MODIFIED:20201219T144341Z
UID:6985-1607904000-1611187200@corridasderuars.com.br
SUMMARY:Desafio dos Reis - Virtual
DESCRIPTION:
URL:https://corridasderuars.com.br/evento/desafio-dos-reis-virtual/
CATEGORIES:1.5km,10km,15km,1km,21km,2km,3km,42km,4km,5km
ATTACH;FMTTYPE=image/jpeg:https://corridasderuars.com.br/wp-content/uploads/2017/07/bg17-1.jpg
END:VEVENT
END:VCALENDAR