BEGIN:VCALENDAR
VERSION:2.0
PRODID:-//Corridas de Rua - RS - ECPv4.5.7//NONSGML v1.0//EN
CALSCALE:GREGORIAN
METHOD:PUBLISH
X-WR-CALNAME:Corridas de Rua - RS
X-ORIGINAL-URL:https://corridasderuars.com.br
X-WR-CALDESC:Events for Corridas de Rua - RS
BEGIN:VEVENT
DTSTART;TZID=UTC+0:20211018T000000
DTEND;TZID=UTC+0:20211024T000000
DTSTAMP:20260421T113316
CREATED:20210903T174143Z
LAST-MODIFIED:20210903T174143Z
UID:7336-1634515200-1635033600@corridasderuars.com.br
SUMMARY:Desafio de Corrida Outubro Rosa
DESCRIPTION:
URL:https://corridasderuars.com.br/evento/desafio-de-corrida-outubro-rosa/
CATEGORIES:5km
ATTACH;FMTTYPE=image/jpeg:https://corridasderuars.com.br/wp-content/uploads/2019/08/bg212.jpg
END:VEVENT
END:VCALENDAR